BEGIN:VCALENDAR
VERSION:2.0
PRODID:icalendar-ruby
CALSCALE:GREGORIAN
METHOD:PUBLISH
BEGIN:VEVENT
DTSTAMP:20260421T111536Z
UID:496-1470259@cathedralchurchofallsaints.com
DTSTART:20260423T134500Z
DTEND:20260423T151500Z
CLASS:PUBLIC
CREATED:20260416T100822
DESCRIPTION:
LAST-MODIFIED:20260416T100822
LOCATION:
SUMMARY:Cathedral booked
URL;VALUE=URI:https://www.cathedralchurchofallsaints.com/events/cathedral-b
 ooked--496/2026-04-23
END:VEVENT
END:VCALENDAR
