BEGIN:VCALENDAR
VERSION:2.0
PRODID:icalendar-ruby
CALSCALE:GREGORIAN
METHOD:PUBLISH
BEGIN:VEVENT
DTSTAMP:20260421T084032Z
UID:494-1470257@cathedralchurchofallsaints.com
DTSTART:20260614T130000Z
DTEND:20260614T160000Z
CLASS:PUBLIC
CREATED:20260416T100500
DESCRIPTION:
LAST-MODIFIED:20260416T100500
LOCATION:Cathedral/Great Hall
SUMMARY:Combined Church Servive
URL;VALUE=URI:https://www.cathedralchurchofallsaints.com/events/combined-ch
 urch-servive/2026-06-14
END:VEVENT
END:VCALENDAR
